BEGIN:VCALENDAR
VERSION:2.0
PRODID:GlueUp
CALSCALE:GREGORIAN
BEGIN:VTIMEZONE
TZID:UTC
BEGIN:STANDARD
DTSTART:19700101T000000
TZOFFSETFROM:+0000
TZOFFSETTO:+0000
TZNAME:UTC
END:STANDARD
END:VTIMEZONE
BEGIN:VEVENT
TZ:+00
ORGANIZER;CN=Jaycee Yang:MAILTO:jaycee@swedcham.cn
UID:38752-1776842428@https://swedcham.glueup.cn
DTSTAMP:20260422T072028Z
DTSTART:20221214T010000Z
DTEND:20221214T030000Z
SUMMARY:Webinar: Green Power and Manufacturing (Members only) - EN/CN 中英双语
DESCRIPTION:Webinar: Green Power and Manufacturing (Members only) - EN/CN 中英双语 by The Swedish Chamber of Commerce in China\n\nDec 14, 2022 (09:00 - 11:00)(GMT+8)\n\nFor more information, click here: https://swedcham.glueup.cn/my/events/38752
LOCATION:Webinar on Kudo meeting platform - Please kindly note this hybrid event has been changed to Webinar (Online only). Anywhere - China
BEGIN:VALARM
TRIGGER:-PT48H
REPEAT:4
DURATION:PT30M
ACTION:DISPLAY
END:VALARM
END:VEVENT
END:VCALENDAR