BEGIN:VCALENDAR
VERSION:2.0
PRODID:GlueUp
CALSCALE:GREGORIAN
BEGIN:VTIMEZONE
TZID:UTC
BEGIN:STANDARD
DTSTART:19700101T000000
TZOFFSETFROM:+0000
TZOFFSETTO:+0000
TZNAME:UTC
END:STANDARD
END:VTIMEZONE
BEGIN:VEVENT
TZ:+00
ORGANIZER;CN=Jonatan Jiazhi Chang:MAILTO:jonatan@swedcham.cn
UID:49366-1777059893@https://swedcham.glueup.cn
DTSTAMP:20260424T194453Z
DTSTART:20260528T013000Z
DTEND:20260528T093000Z
SUMMARY:SH Workshop: Continuous Improvement Champion Workshop持续改善倡导者工作坊 (Chinese/中文培训）
DESCRIPTION:SH Workshop: Continuous Improvement Champion Workshop持续改善倡导者工作坊 (Chinese/中文培训） by The Swedish Chamber of Commerce in China\n\nMay 28, 2026 (09:30 - 17:30)(GMT+8)\n\nFor more information, click here: https://swedcham.glueup.cn/my/events/49366
LOCATION:
BEGIN:VALARM
TRIGGER:-PT48H
REPEAT:4
DURATION:PT30M
ACTION:DISPLAY
END:VALARM
END:VEVENT
END:VCALENDAR