BEGIN:VCALENDAR
VERSION:2.0
PRODID:GlueUp
CALSCALE:GREGORIAN
BEGIN:VTIMEZONE
TZID:UTC
BEGIN:STANDARD
DTSTART:19700101T000000
TZOFFSETFROM:+0000
TZOFFSETTO:+0000
TZNAME:UTC
END:STANDARD
END:VTIMEZONE
BEGIN:VEVENT
TZ:+00
ORGANIZER;CN=Jonatan Jiazhi Chang:MAILTO:jonatan@swedcham.cn
UID:49365-1776623451@https://swedcham.glueup.cn
DTSTAMP:20260419T183051Z
DTSTART:20260515T013000Z
DTEND:20260515T093000Z
SUMMARY:SH Workshop: AI+ Lean 6 Sigma Yellow Belt （AI+ 精益六西格玛黄带培训 ） (Chinese/中文培训）
DESCRIPTION:SH Workshop: AI+ Lean 6 Sigma Yellow Belt （AI+ 精益六西格玛黄带培训 ） (Chinese/中文培训） by The Swedish Chamber of Commerce in China\n\nMay 15, 2026 (09:30 - 17:30)(GMT+8)\n\nFor more information, click here: https://swedcham.glueup.cn/my/events/49365
LOCATION:
BEGIN:VALARM
TRIGGER:-PT48H
REPEAT:4
DURATION:PT30M
ACTION:DISPLAY
END:VALARM
END:VEVENT
END:VCALENDAR