BEGIN:VCALENDAR
VERSION:2.0
PRODID:GlueUp
CALSCALE:GREGORIAN
BEGIN:VTIMEZONE
TZID:UTC
BEGIN:STANDARD
DTSTART:19700101T000000
TZOFFSETFROM:+0000
TZOFFSETTO:+0000
TZNAME:UTC
END:STANDARD
END:VTIMEZONE
BEGIN:VEVENT
TZ:+00
ORGANIZER;CN=Ida Sandgarde:MAILTO:ida@swedcham.cn
UID:33751-1776825624@https://swedcham.glueup.cn
DTSTAMP:20260422T024024Z
DTSTART:20211110T100000Z
DTEND:20211110T123000Z
SUMMARY:SH: Women Who Lead [Sold out!]
DESCRIPTION:SH: Women Who Lead [Sold out!] by The Swedish Chamber of Commerce in China\n\nNov 10, 2021 (18:00 - 20:30)(GMT+8)\n\nFor more information, click here: https://swedcham.glueup.cn/my/events/33751
LOCATION:H&M Office - 11th floor - HKRI Center Two - HKRI Taikoo Hui - No. 288 Shi Men First Road (Near West Nanjing Road Station - Line 12/2/13） - 石门一路288号兴业太古汇2座11楼 (地铁12、13和2号线南京西路站) Shanghai - China
BEGIN:VALARM
TRIGGER:-PT48H
REPEAT:4
DURATION:PT30M
ACTION:DISPLAY
END:VALARM
END:VEVENT
END:VCALENDAR