BEGIN:VCALENDAR
VERSION:2.0
PRODID:GlueUp
CALSCALE:GREGORIAN
BEGIN:VTIMEZONE
TZID:UTC
BEGIN:STANDARD
DTSTART:19700101T000000
TZOFFSETFROM:+0000
TZOFFSETTO:+0000
TZNAME:UTC
END:STANDARD
END:VTIMEZONE
BEGIN:VEVENT
TZ:+00
ORGANIZER;CN=Ida Sandgarde:MAILTO:ida@swedcham.cn
UID:30845-1777030856@https://swedcham.glueup.cn
DTSTAMP:20260424T114056Z
DTSTART:20210415T003000Z
DTEND:20210415T023000Z
SUMMARY:SH: The M&A Playbook - The What, The Why, The How?
DESCRIPTION:SH: The M&A Playbook - The What, The Why, The How? by The Swedish Chamber of Commerce in China\n\nApr 15, 2021 (08:30 - 10:30)(GMT+8)\n\nFor more information, click here: https://swedcham.glueup.cn/my/events/30845
LOCATION:Volvo Studio - 淮海中路999号环贸一楼(地铁9号口，陕西南路上) -  - 999 Middle Huaihai Road - iapm - F1 Shanghai - China
BEGIN:VALARM
TRIGGER:-PT48H
REPEAT:4
DURATION:PT30M
ACTION:DISPLAY
END:VALARM
END:VEVENT
END:VCALENDAR