BEGIN:VCALENDAR
VERSION:2.0
PRODID:GlueUp
CALSCALE:GREGORIAN
BEGIN:VTIMEZONE
TZID:UTC
BEGIN:STANDARD
DTSTART:19700101T000000
TZOFFSETFROM:+0000
TZOFFSETTO:+0000
TZNAME:UTC
END:STANDARD
END:VTIMEZONE
BEGIN:VEVENT
TZ:+00
ORGANIZER;CN=Karolina Norlander:MAILTO:karolina@swedcham.cn
UID:45574-1777033810@https://swedcham.glueup.cn
DTSTAMP:20260424T123010Z
DTSTART:20241119T103000Z
DTEND:20241119T120000Z
SUMMARY:SH: SwedCham Speed Networking - Rotate & Learn
DESCRIPTION:SH: SwedCham Speed Networking - Rotate & Learn by The Swedish Chamber of Commerce in China\n\nNov 19, 2024 (18:30 - 20:00)(GMT+8)\n\nFor more information, click here: https://swedcham.glueup.cn/my/events/45574
LOCATION:
BEGIN:VALARM
TRIGGER:-PT48H
REPEAT:4
DURATION:PT30M
ACTION:DISPLAY
END:VALARM
END:VEVENT
END:VCALENDAR