BEGIN:VCALENDAR
VERSION:2.0
PRODID:GlueUp
CALSCALE:GREGORIAN
BEGIN:VTIMEZONE
TZID:UTC
BEGIN:STANDARD
DTSTART:19700101T000000
TZOFFSETFROM:+0000
TZOFFSETTO:+0000
TZNAME:UTC
END:STANDARD
END:VTIMEZONE
BEGIN:VEVENT
TZ:+00
ORGANIZER;CN=Jonatan Jiazhi Chang:MAILTO:jonatan@swedcham.cn
UID:49458-1777064133@https://swedcham.glueup.cn
DTSTAMP:20260424T205533Z
DTSTART:20260529T083000Z
DTEND:20260529T100000Z
SUMMARY:SH: SwedCham Annual General Meeting (AGM) 2026
DESCRIPTION:SH: SwedCham Annual General Meeting (AGM) 2026 by The Swedish Chamber of Commerce in China\n\nMay 29, 2026 (16:30 - 18:00)(GMT+8)\n\nFor more information, click here: https://swedcham.glueup.cn/my/events/49458
LOCATION:
BEGIN:VALARM
TRIGGER:-PT48H
REPEAT:4
DURATION:PT30M
ACTION:DISPLAY
END:VALARM
END:VEVENT
END:VCALENDAR