BEGIN:VCALENDAR
VERSION:2.0
PRODID:GlueUp
CALSCALE:GREGORIAN
BEGIN:VTIMEZONE
TZID:UTC
BEGIN:STANDARD
DTSTART:19700101T000000
TZOFFSETFROM:+0000
TZOFFSETTO:+0000
TZNAME:UTC
END:STANDARD
END:VTIMEZONE
BEGIN:VEVENT
TZ:+00
ORGANIZER;CN=Karolina Norlander:MAILTO:karolina@swedcham.cn
UID:50273-1777058694@https://swedcham.glueup.cn
DTSTAMP:20260424T192454Z
DTSTART:20260529T103000Z
DTEND:20260529T123000Z
SUMMARY:SH: Spring & Mingle – An Evening of Connections (Member-Only)
DESCRIPTION:SH: Spring & Mingle – An Evening of Connections (Member-Only) by The Swedish Chamber of Commerce in China\n\nMay 29, 2026 (18:30 - 20:30)(GMT+8)\n\nFor more information, click here: https://swedcham.glueup.cn/my/events/50273
LOCATION:
BEGIN:VALARM
TRIGGER:-PT48H
REPEAT:4
DURATION:PT30M
ACTION:DISPLAY
END:VALARM
END:VEVENT
END:VCALENDAR