BEGIN:VCALENDAR
VERSION:2.0
PRODID:GlueUp
CALSCALE:GREGORIAN
BEGIN:VTIMEZONE
TZID:UTC
BEGIN:STANDARD
DTSTART:19700101T000000
TZOFFSETFROM:+0000
TZOFFSETTO:+0000
TZNAME:UTC
END:STANDARD
END:VTIMEZONE
BEGIN:VEVENT
TZ:+00
ORGANIZER;CN=Sten Li:MAILTO:sten@swedcham.cn
UID:28369-1777151393@https://swedcham.glueup.cn
DTSTAMP:20260425T210953Z
DTSTART:20201129T020000Z
DTEND:20201129T040000Z
SUMMARY:SH: Rooftop Padel Class
DESCRIPTION:SH: Rooftop Padel Class by The Swedish Chamber of Commerce in China\n\nNov 29, 2020 (10:00 - 12:00)(GMT+8)\n\nFor more information, click here: https://swedcham.glueup.cn/my/events/28369
LOCATION:Global Harbor 环球港 - Shanghai - China
BEGIN:VALARM
TRIGGER:-PT48H
REPEAT:4
DURATION:PT30M
ACTION:DISPLAY
END:VALARM
END:VEVENT
END:VCALENDAR