BEGIN:VCALENDAR
VERSION:2.0
PRODID:GlueUp
CALSCALE:GREGORIAN
BEGIN:VTIMEZONE
TZID:UTC
BEGIN:STANDARD
DTSTART:19700101T000000
TZOFFSETFROM:+0000
TZOFFSETTO:+0000
TZNAME:UTC
END:STANDARD
END:VTIMEZONE
BEGIN:VEVENT
TZ:+00
ORGANIZER;CN=Jaycee Yang:MAILTO:jaycee@swedcham.cn
UID:29401-1777157023@https://swedcham.glueup.cn
DTSTAMP:20260425T224343Z
DTSTART:20201208T080000Z
DTEND:20201208T090000Z
SUMMARY:BJ: Webinar: Sharp Talk: Sustainability In Green Financing
DESCRIPTION:BJ: Webinar: Sharp Talk: Sustainability In Green Financing by The Swedish Chamber of Commerce in China\n\nDec 8, 2020 (16:00 - 17:00)(GMT+8)\n\nFor more information, click here: https://swedcham.glueup.cn/my/events/29401
LOCATION:Anywhere in the world. Log-in details for the webinar will be sent to registered participants prior to the event. - Beijing Beijing
BEGIN:VALARM
TRIGGER:-PT48H
REPEAT:4
DURATION:PT30M
ACTION:DISPLAY
END:VALARM
END:VEVENT
END:VCALENDAR