BEGIN:VCALENDAR
VERSION:2.0
PRODID:GlueUp
CALSCALE:GREGORIAN
BEGIN:VTIMEZONE
TZID:UTC
BEGIN:STANDARD
DTSTART:19700101T000000
TZOFFSETFROM:+0000
TZOFFSETTO:+0000
TZNAME:UTC
END:STANDARD
END:VTIMEZONE
BEGIN:VEVENT
TZ:+00
ORGANIZER;CN=Malin Hammarén:MAILTO:malin@swedcham.cn
UID:35000-1776819336@https://swedcham.glueup.cn
DTSTAMP:20260422T005536Z
DTSTART:20220106T070000Z
DTEND:20220106T080000Z
SUMMARY:Webinar: China’s Lessons in “Software Eats Manufacturing” - EN/CN Bilingual Event 中英双语活动
DESCRIPTION:Webinar: China’s Lessons in “Software Eats Manufacturing” - EN/CN Bilingual Event 中英双语活动 by The Swedish Chamber of Commerce in China\n\nJan 6, 2022 (15:00 - 16:00)(GMT+8)\n\nFor more information, click here: https://swedcham.glueup.cn/my/events/35000
LOCATION:
BEGIN:VALARM
TRIGGER:-PT48H
REPEAT:4
DURATION:PT30M
ACTION:DISPLAY
END:VALARM
END:VEVENT
END:VCALENDAR