BEGIN:VCALENDAR
VERSION:2.0
PRODID:GlueUp
CALSCALE:GREGORIAN
BEGIN:VTIMEZONE
TZID:UTC
BEGIN:STANDARD
DTSTART:19700101T000000
TZOFFSETFROM:+0000
TZOFFSETTO:+0000
TZNAME:UTC
END:STANDARD
END:VTIMEZONE
BEGIN:VEVENT
TZ:+00
ORGANIZER;CN=Jaycee Yang:MAILTO:jaycee@swedcham.cn
UID:31071-1776878704@https://swedcham.glueup.cn
DTSTAMP:20260422T172504Z
DTSTART:20210520T003000Z
DTEND:20210520T043000Z
SUMMARY:LF: Factory Tour to Sandvik Coromant PU Langfang ( Half Day and Limited Seats!)
DESCRIPTION:LF: Factory Tour to Sandvik Coromant PU Langfang ( Half Day and Limited Seats!) by The Swedish Chamber of Commerce in China\n\nMay 20, 2021 (08:30 - 12:30)(GMT+8)\n\nFor more information, click here: https://swedcham.glueup.cn/my/events/31071
LOCATION:河北廊坊 - 河北省廊坊市广阳区花园道2号 -  - No.2 Huayuan Avenue,Langfang E&T Demelopment Zone 065001 Hebei Province P.R. China Langfang 廊坊 - 廊坊 - China
BEGIN:VALARM
TRIGGER:-PT48H
REPEAT:4
DURATION:PT30M
ACTION:DISPLAY
END:VALARM
END:VEVENT
END:VCALENDAR