BEGIN:VCALENDAR
VERSION:2.0
PRODID:GlueUp
CALSCALE:GREGORIAN
BEGIN:VTIMEZONE
TZID:UTC
BEGIN:STANDARD
DTSTART:19700101T000000
TZOFFSETFROM:+0000
TZOFFSETTO:+0000
TZNAME:UTC
END:STANDARD
END:VTIMEZONE
BEGIN:VEVENT
TZ:+00
ORGANIZER;CN=Jaycee Yang:MAILTO:jaycee@swedcham.cn
UID:30111-1776802468@https://swedcham.glueup.cn
DTSTAMP:20260421T201428Z
DTSTART:20210224T060000Z
DTEND:20210224T093000Z
SUMMARY:[SwedCham Academy ] BJ: Positive Psychology In Team Management - Activating Drive (In Chinese) 积极心理学之激活团队内驱力 (中文讲解）
DESCRIPTION:[SwedCham Academy ] BJ: Positive Psychology In Team Management - Activating Drive (In Chinese) 积极心理学之激活团队内驱力 (中文讲解） by The Swedish Chamber of Commerce in China\n\nFeb 24, 2021 (14:00 - 17:30)(GMT+8)\n\nFor more information, click here: https://swedcham.glueup.cn/my/events/30111
LOCATION:SwedCham's office - Room 226 - Jin Shang Building - Xinyuanli Xi 20 - Chaoyang District - Beijing Beijing
BEGIN:VALARM
TRIGGER:-PT48H
REPEAT:4
DURATION:PT30M
ACTION:DISPLAY
END:VALARM
END:VEVENT
END:VCALENDAR