BEGIN:VCALENDAR
VERSION:2.0
PRODID:GlueUp
CALSCALE:GREGORIAN
BEGIN:VTIMEZONE
TZID:UTC
BEGIN:STANDARD
DTSTART:19700101T000000
TZOFFSETFROM:+0000
TZOFFSETTO:+0000
TZNAME:UTC
END:STANDARD
END:VTIMEZONE
BEGIN:VEVENT
TZ:+00
ORGANIZER;CN=Sten Li:MAILTO:sten@swedcham.cn
UID:29094-1777151312@https://swedcham.glueup.cn
DTSTAMP:20260425T210832Z
DTSTART:20201105T080000Z
DTEND:20201105T090000Z
SUMMARY:[BJ, SH and Webinar]: Post-U.S. Election Forum with Robert Bergqvist and Elisabet Kopelman from SEB
DESCRIPTION:[BJ, SH and Webinar]: Post-U.S. Election Forum with Robert Bergqvist and Elisabet Kopelman from SEB by The Swedish Chamber of Commerce in China\n\nNov 5, 2020 (16:00 - 17:00)(GMT+8)\n\nFor more information, click here: https://swedcham.glueup.cn/my/events/29094
LOCATION:Online (Zoom), Or Offline Beijing (Volvo Studio) and Shanghai (SEB) - Zoom -  - Shanghai - SEB - Units 3301-05&15-16 - 33/F - Two IFC - Shanghai IFC - 8 Century Avenue - Pudong New Area - Shanghai 200120 P.R. China -  - Beijing - Volvo Studio 沃尔沃品牌体验中心（燕莎友谊商城店) - 1F W105 - Building 5 - No.52 Liangmaqiao Road - Chaoyang District 朝阳区亮马桥路52号燕莎友谊商城F1层 Beijing and Shanghai - China
BEGIN:VALARM
TRIGGER:-PT48H
REPEAT:4
DURATION:PT30M
ACTION:DISPLAY
END:VALARM
END:VEVENT
END:VCALENDAR