BEGIN:VCALENDAR
VERSION:2.0
PRODID:GlueUp
CALSCALE:GREGORIAN
BEGIN:VTIMEZONE
TZID:UTC
BEGIN:STANDARD
DTSTART:19700101T000000
TZOFFSETFROM:+0000
TZOFFSETTO:+0000
TZNAME:UTC
END:STANDARD
END:VTIMEZONE
BEGIN:VEVENT
TZ:+00
ORGANIZER;CN=Jaycee Yang:MAILTO:jaycee@swedcham.cn
UID:28862-1777151725@https://swedcham.glueup.cn
DTSTAMP:20260425T211525Z
DTSTART:20201027T080000Z
DTEND:20201027T090000Z
SUMMARY:BJ: Sharp Talk: Government Affairs: How to Manage the Government Relationship in China Under the New Normal?
DESCRIPTION:BJ: Sharp Talk: Government Affairs: How to Manage the Government Relationship in China Under the New Normal? by The Swedish Chamber of Commerce in China\n\nOct 27, 2020 (16:00 - 17:00)(GMT+8)\n\nFor more information, click here: https://swedcham.glueup.cn/my/events/28862
LOCATION:Volvo Studio 沃尔沃品牌体验中心(燕莎友谊商城店) - 1F W105 - Building 5 - No.52 Liangmaqiao Road - Chaoyang District - 朝阳区亮马桥路52号燕莎友谊商城F1层 Beijing - China
BEGIN:VALARM
TRIGGER:-PT48H
REPEAT:4
DURATION:PT30M
ACTION:DISPLAY
END:VALARM
END:VEVENT
END:VCALENDAR